BEGIN:VCALENDAR
VERSION:2.0
METHOD:PUBLISH
PRODID:-//LIAA//NONSGML Community Center Calendar//EN
BEGIN:VEVENT
UID:0000600181@http://www.us23heritageroute.org/
DTSTAMP:20260419T230646Z
DTSTART:20260718T040000Z
DTEND:20260719T040000Z
RRULE:FREQ=DAILY;COUNT=3
SUMMARY:Port Huron to Mackinac Sailboat Race - Mackinaw City\n
DESCRIPTION:Skippers may choose to race north on Lake Huron from Port Huron\, race the 235-mile Shore Line Course up the Michigan coastline\, or the 290-mile Southampton Course\, which directs sailors toward Southampton Ontario\, and then to the finish line at Mackinac Island.\nThe fastest boats will usually finish Sunday evening.\nMackinaw City\, MI\n
END:VEVENT
END:VCALENDAR
