BEGIN:VCALENDAR
VERSION:2.0
METHOD:PUBLISH
PRODID:-//LIAA//NONSGML Community Center Calendar//EN
BEGIN:VEVENT
UID:0000600368@http://www.us23heritageroute.org/
DTSTAMP:20260421T222433Z
DTSTART:20260829T040000Z
DTEND:20260830T040000Z
RRULE:FREQ=DAILY;COUNT=2
SUMMARY:Corvette Crossroads Auto Show - Mackinaw City\n
DESCRIPTION:An American automotive classic\, the Corvette\, will be celebrated the weekend before Labor Day weekend during the Annual Corvette Crossroads Auto Show.\nBeginning Friday\, Corvettes of various vintages will begin arriving in the area\, cruising and getting registered for Saturday&rsquo\;s festivities. On Saturday\, hundreds of Corvettes will be on display in Mackinaw City from 10am to 2 pm. A poker walk for show participants will also be offered during the day.\nPeoples choice style of judging will determine winners in several different award classes. Winners will be announced at an awards presentation at 3 pm. Saturday&rsquo\;s festivities will culminate with a parade of Corvettes across the Mackinac Bridge\, beginning at 7 pm. All Corvettes are welcome and there is a nominal fee for non show registered vettes.\nDowntown Mackinaw City\nMackinaw City\, MI\n
END:VEVENT
END:VCALENDAR
