BEGIN:VCALENDAR
VERSION:2.0
METHOD:PUBLISH
PRODID:-//LIAA//NONSGML Community Center Calendar//EN
BEGIN:VEVENT
UID:0000603903@http://www.us23heritageroute.org/
DTSTAMP:20260420T240830Z
DTSTART:20250122T040000Z
DTEND:20250123T040000Z
RRULE:FREQ=DAILY;COUNT=5
SUMMARY:Thunder Bay International Film Festival\n
DESCRIPTION:Every year\, Thunder Bay National Marine Sanctuary brings the underwater world of cinema to northeast Michigan!\nIn January\, northeast Michigan is treated to some of the most impressive ocean and Great Lakes films from around the world. Film screenings are complemented by social events\, educational activities\, and opportunities to meet filmmakers.\nSee a trailer of one of this year&rsquo\;s feature films &ldquo\;All Too Clear&rdquo\; by clicking the link: https://inspiredplanet.ca/alltooclear/\nTickets will go on sale in December.\nMore than 30 films will be shared over the weekend in Alpena\, Rogers City\, and Harrisville.\nSchedule\nWednesday\, January 22 &ndash\; $10\n6:00pm-9:00pm\nTBIFF on the Road\nRogers Theater\, Rogers City\nThursday\, January 23 &ndash\; $10\n6:00pm-9:00pm\nTBIFF on the Road\nAlcona County Library\, Harrisville\nFriday\, January 24 &ndash\; $30\n6:00pm-9:00pm\nGreat Lakes Gala: Reception &amp\; Films\nGreat Lakes Maritime Heritage Center\, Alpena\nSaturday\, January 25\n$10 PER PROGRAM\n10:00am-5:00pm\nFilms screened all day\nGreat Lakes Maritime Heritage Center\, Alpena\nSaturday\, January 25 &ndash\; FREE\n3:00pm-5:00pm\nStudent Shorts Film Competition &amp\; Filmmakers&rsquo\; Panel\nGreat Lakes Maritime Heritage Center\, Alpena\nSaturday\, January 25 &ndash\; $20\n6:00pm-9:00pm\nSanctuary Selections Film Competition\nwith The Sunset Project\nGreat Lakes Maritime Heritage Center\, Alpena\nSunday\, January 26\n$10 PER PROGRAM\n11:00am-5:00pm\nFilms screened all day\nGreat Lakes Maritime Heritage Center\, AlpenaGreat Lakes Maritime Heritage Center500 West Fletcher Street\, Alpena\, Michigan 49707\n \n \n
END:VEVENT
END:VCALENDAR
