BEGIN:VCALENDAR
VERSION:2.0
METHOD:PUBLISH
PRODID:-//LIAA//NONSGML Community Center Calendar//EN
BEGIN:VEVENT
UID:0000604389@http://www.us23heritageroute.org/
DTSTAMP:20260420T091318Z
DTSTART:20240301T220000Z
DTEND:20240301T230000Z
SUMMARY:An Acoustic Evening with Aaron Tippin - Alpena\n
DESCRIPTION:Get ready for an unforgettable evening of toe-tapping tunes and heartfelt melodies at the upcoming country music extravaganza featuring the legendary Aaron Tippin! This March 1\, 2024\, mark your calendars and make your way to the venue for a night of electrifying performances and great vibes.\nEvent Details:\nDate: March 1\, 2024\nDoors Open: 6:00 PM\nOpening Act: 7:00 PM (featuring the phenomenal PPM band\, back by popular demand!)\nHeadliner: 8:30 PM - Brace yourself for a soul-stirring performance by none other than Aaron Tippin himself!\n🎟️ Tickets:\nGeneral Admission: $50\nVIP Pass: $75 (Includes an exclusive Aaron Tippin Lanyard and Poster)\nThe APlex\n701 Woodward Ave.\nAlpena\, Michigan 49707\n
END:VEVENT
END:VCALENDAR
