BEGIN:VCALENDAR
VERSION:2.0
METHOD:PUBLISH
PRODID:-//LIAA//NONSGML Community Center Calendar//EN
BEGIN:VEVENT
UID:0000604950@http://www.us23heritageroute.org/
DTSTAMP:20260421T092125Z
DTSTART:20250830T140000Z
DTEND:20250830T200000Z
SUMMARY:Sunrise Side Co-Op Market's Holistic Healing Fest - Alpena\n
DESCRIPTION:Come to the Sunrise Side Co-Op Market&rsquo\;s 1st Annual Holistic Healing Fest! A complete Mind\, Body &amp\; Spirit experience.\nHeld at Bay View Park right next to the marina and our market on Saturday\, August 30th from 10am-4pm.\nWe will have activities\, speakers\, vendors and all the healing vibes one would expect.\nWe are very excited to create and host this event for the surrounding holistic community!\nBay View Park\nAlpena\, MI 49707\n
END:VEVENT
END:VCALENDAR
