BEGIN:VCALENDAR
VERSION:2.0
METHOD:PUBLISH
PRODID:-//LIAA//NONSGML Community Center Calendar//EN
BEGIN:VEVENT
UID:0000605188@http://www.us23heritageroute.org/
DTSTAMP:20260421T221558Z
DTSTART:20260605T040000Z
DTEND:20260606T040000Z
RRULE:FREQ=DAILY;COUNT=3
SUMMARY:Mackinaw Steel Car Show\n
DESCRIPTION:A journey through automotive history! Calling all car enthusiasts! Don&rsquo\;t miss this first annual showcase of vintage vehicles spanning the golden years of automotive design &ndash\; from pre-war beauties to 1973 classics.\nWhat to Expect:A curated display of rare and historic cars\, 1900s-1973Live music\, vendors\, and nostalgic vibesSwap meet &amp\; vintage parts marketJudged competition for multiple categoriesFood vendors and beer tents (family fun?)Free admission for spectators\nMackinaw Crossings\n248 South Huron Ave\nMackinaw City\, MI 49701\n
END:VEVENT
END:VCALENDAR
