BEGIN:VCALENDAR
VERSION:2.0
METHOD:PUBLISH
PRODID:-//LIAA//NONSGML Community Center Calendar//EN
BEGIN:VEVENT
UID:0000605189@http://www.us23heritageroute.org/
DTSTAMP:20260421T222427Z
DTSTART:20260704T040000Z
DTEND:20260705T040000Z
SUMMARY:Mackinaw City 4th of July\n
DESCRIPTION:Celebrate an all American 4th of July in Mackinaw City.\nScheduled Events 1pm to 3pm - Enjoy games on the Marina Lawn (Fun for all ages). 9pm to Dusk - Straits Area Concert Band to perform at Conkling Heritage Park. At Dusk - the largest fireworks display in Northern Michigan\nDowntown Mackinaw City\n
END:VEVENT
END:VCALENDAR
