BEGIN:VCALENDAR
VERSION:2.0
METHOD:PUBLISH
PRODID:-//LIAA//NONSGML Community Center Calendar//EN
BEGIN:VEVENT
UID:0000605190@http://www.us23heritageroute.org/
DTSTAMP:20260419T230554Z
DTSTART:20260711T040000Z
DTEND:20260712T040000Z
RRULE:FREQ=DAILY;COUNT=3
SUMMARY:Chicago Yacht Club to Mackinac Race - Mackinaw City\n
DESCRIPTION:The Chicago Yacht Club is proud to have a longstanding tradition of yachting excellence. The Club's most famous event is the Chicago Yacht Club Race to Mackinac\, which is the longest annual freshwater sailing race in the world. Boats will pass under the Mackinac Bridge in Mackinaw City heading East. Perfect view from area hotels like Best Western Dockside\, Hamilton Inn Select and Clarion Hotels in Mackinaw City.\nMackinaw City\, MI\n
END:VEVENT
END:VCALENDAR
