BEGIN:VCALENDAR
VERSION:2.0
METHOD:PUBLISH
PRODID:-//LIAA//NONSGML Community Center Calendar//EN
BEGIN:VEVENT
UID:0000605191@http://www.us23heritageroute.org/
DTSTAMP:20260421T222435Z
DTSTART:20260912T040000Z
DTEND:20260913T040000Z
RRULE:FREQ=DAILY;COUNT=2
SUMMARY:Mackinac Bridge Antique Tractor Crossing & Show - Mackinaw City\n
DESCRIPTION:Come watch HUNDREDS of unique tractors in this year's Owosso Tractor Parts Antique Tractor Parade starting in Mackinaw City and crossing over the Mighty Mackinac Bridge to St. Ignace.\nDowntown Mackinaw City\nMackinaw City\, MI\n
END:VEVENT
END:VCALENDAR
