BEGIN:VCALENDAR
VERSION:2.0
METHOD:PUBLISH
PRODID:-//LIAA//NONSGML Community Center Calendar//EN
BEGIN:VEVENT
UID:0000605192@http://www.us23heritageroute.org/
DTSTAMP:20260421T222349Z
DTSTART:20260918T040000Z
DTEND:20260919T040000Z
RRULE:FREQ=DAILY;COUNT=2
SUMMARY:Annual Richard Crane Big Truck Show - Mackinaw City\n
DESCRIPTION:Annual Richard Crane Memorial Big Rig Truck Show See these awesome semi-trucks with customized cabs\, extraordinary paint/art work and neon light displays. Come see the spectacular view of the lighted big trucks on Saturday night.\nDowntown Mackinaw City\,\nMackinaw City\, MI\n
END:VEVENT
END:VCALENDAR
