BEGIN:VCALENDAR
VERSION:2.0
METHOD:PUBLISH
PRODID:-//LIAA//NONSGML Community Center Calendar//EN
BEGIN:VEVENT
UID:0000605200@http://www.us23heritageroute.org/
DTSTAMP:20260421T222014Z
DTSTART:20260430T153000Z
DTEND:20260430T173000Z
SUMMARY:Hatta Girl CW Luncheon & Fashion Show - Cheboygan\n
DESCRIPTION:"Hatta Girl"\nKentucky Derby Themed\nCheboygan Area Chamber of Commerce\nAmbassador Team\nKentucky Derby Themed\nConnecting Women Luncheon &amp\; Fashion Show\nLuncheon\, Networking\, Door Prizes\, Local Fashion\nKentucky Derby Hat Contest\nLoft Events on Main\n228 N Main Street\, Suite D\nCheboygan\, MI\n
END:VEVENT
END:VCALENDAR
