BEGIN:VCALENDAR
VERSION:2.0
METHOD:PUBLISH
PRODID:-//LIAA//NONSGML Community Center Calendar//EN
BEGIN:VEVENT
UID:0000605201@http://www.us23heritageroute.org/
DTSTAMP:20260421T222349Z
DTSTART:20260515T040000Z
DTEND:20260516T040000Z
RRULE:FREQ=DAILY;COUNT=2
SUMMARY:Tawas Point Bird Migration Days\n
DESCRIPTION:Tawas Point State Park\nEast Tawas\, MI\n
END:VEVENT
END:VCALENDAR
