BEGIN:VCALENDAR
VERSION:2.0
METHOD:PUBLISH
PRODID:-//LIAA//NONSGML Community Center Calendar//EN
BEGIN:VEVENT
UID:0000605202@http://www.us23heritageroute.org/
DTSTAMP:20260421T222312Z
DTSTART:20260528T140000Z
DTEND:20260528T180000Z
SUMMARY:Lake Huron Veterans Benefit Fair - East Tawas\n
DESCRIPTION:East Tawas Community Center\n760 Newman St\nEast Tawas\, MI 48730\n
END:VEVENT
END:VCALENDAR
