BEGIN:VCALENDAR
VERSION:2.0
METHOD:PUBLISH
PRODID:-//LIAA//NONSGML Community Center Calendar//EN
BEGIN:VEVENT
UID:0000600646@http://www.us23heritageroute.org/
DTSTAMP:20260419T123717Z
DTSTART:20120613T230000Z
DTEND:20120614T010000Z
SUMMARY:Robert Domm Photographer & Author of Backroads in Michigan\n
DESCRIPTION:The Omer Little Eagle's Nest Library presents:\nRobert Domm\nPhotographer and Author of Backroads of Michigan\nHe will take you off the beaten paths to beautiful locations in Michigan. All with the majic of photography.\nHeld at Ye Olde Courthouse on US23 in Omer\nYe Olde Courthouse\non US 23 in Omer.\nany questions please contact: 989 653-2600\n
END:VEVENT
END:VCALENDAR
